BEGIN:VCALENDAR
VERSION:2.0
PRODID:-//Real Academia Sevillana de Ciencias Veterinarias - ECPv6.3.3.1//NONSGML v1.0//EN
CALSCALE:GREGORIAN
METHOD:PUBLISH
X-WR-CALNAME:Real Academia Sevillana de Ciencias Veterinarias
X-ORIGINAL-URL:https://www.rascvet.es
X-WR-CALDESC:Eventos para Real Academia Sevillana de Ciencias Veterinarias
REFRESH-INTERVAL;VALUE=DURATION:PT1H
X-Robots-Tag:noindex
X-PUBLISHED-TTL:PT1H
BEGIN:VTIMEZONE
TZID:UTC
BEGIN:STANDARD
TZOFFSETFROM:+0000
TZOFFSETTO:+0000
TZNAME:UTC
DTSTART:20150101T000000
END:STANDARD
END:VTIMEZONE
BEGIN:VEVENT
DTSTART;VALUE=DATE:20151023
DTEND;VALUE=DATE:20151026
DTSTAMP:20260425T200233
CREATED:20151019T124527Z
LAST-MODIFIED:20151019T124654Z
UID:7597-1445558400-1445817599@www.rascvet.es
SUMMARY:XXI Congreso Nacional y XII Iberoamericano de Historia de la Veterinaria
DESCRIPTION:
URL:https://www.rascvet.es/evento/xxi-congreso-nacional-y-xii-iberoamericano-de-historia-de-la-veterinaria/
LOCATION:Palacio de Jabalquinto. Campus Antonio Machado de la Universidad Internacional de Andalucía\, Plaza de la Santa Cruz\, Jaén\, Baeza\, 23440\, España
ORGANIZER;CN="Asociaci%C3%B3n Andaluza de Historia de la Veterinaria":MAILTO:aahv@uco.es
END:VEVENT
END:VCALENDAR