BEGIN:VCALENDAR
VERSION:2.0
PRODID:-//Real Academia Sevillana de Ciencias Veterinarias - ECPv6.3.3.1//NONSGML v1.0//EN
CALSCALE:GREGORIAN
METHOD:PUBLISH
X-ORIGINAL-URL:https://www.rascvet.es
X-WR-CALDESC:Eventos para Real Academia Sevillana de Ciencias Veterinarias
REFRESH-INTERVAL;VALUE=DURATION:PT1H
X-Robots-Tag:noindex
X-PUBLISHED-TTL:PT1H
BEGIN:VTIMEZONE
TZID:UTC
BEGIN:STANDARD
TZOFFSETFROM:+0000
TZOFFSETTO:+0000
TZNAME:UTC
DTSTART:20180101T000000
END:STANDARD
END:VTIMEZONE
BEGIN:VEVENT
DTSTART;TZID=UTC:20181215T190000
DTEND;TZID=UTC:20181215T190000
DTSTAMP:20260423T213751
CREATED:20181113T072723Z
LAST-MODIFIED:20181113T072723Z
UID:7919-1544900400-1544900400@www.rascvet.es
SUMMARY:Sesión de Apertura del Curso 2018-2019
DESCRIPTION:LA REAL ACADEMIA SEVILLANA DE CIENCIAS VETERINARIAS \nTiene el honor de invitarle a la solemne Sesión de Apertura del Curso 2018-2019\, que se celebrará (D.m.)\, el día 15 de diciembre de 2018\, a las 19:00 horas\, con el siguiente Orden del día: \n1) Apertura del acto por el Presidente de la Real Academia\, Excmo. Sr. D. Antonio A. Oropesa de Cáceres. \n2) Lectura de la Memoria del Curso anterior por el Académico Secretario General\, Ilmo. Sr. D. Andrés Castilla Castilla. \n3) Conferencia inaugural sobre el tema: «Susceptibilidad versus Resistencia\, en Infecciones y Zoonosis»\, por el Excmo. Sr. D. Elías Rodríguez Ferri\, que tomará posesión de su plaza de Académico correspondiente de esta Real Corporación. \n4) Cierre del Acto. \nEsta Real Academia espera verse honrada con su asistencia. \nSres. Académicos: Traje oscuro y medalla. \nDescarga de documentos: Tarjeta de Apertura.
URL:https://www.rascvet.es/evento/sesion-de-apertura-del-curso-2018-2019/
ATTACH;FMTTYPE=image/jpeg:https://www.rascvet.es/wp-content/uploads/2014/01/img-banner-sesion1.jpg
END:VEVENT
BEGIN:VEVENT
DTSTART;VALUE=DATE:20190131
DTEND;VALUE=DATE:20190201
DTSTAMP:20260423T213751
CREATED:20190125T103535Z
LAST-MODIFIED:20190125T103648Z
UID:7926-1548892800-1548979199@www.rascvet.es
SUMMARY:Conferencias de la RASCVET en Huelva
DESCRIPTION:La Real Academia Sevillana de Ciencias Veterinarias\, con el objetivo de contribuir a la formación continuada de los Veterinarios\, ha organizado unas jornadas itinerantes en los Ilustres Colegios Provinciales dentro del ámbito territorial establecido en sus Estatutos. \nLa Jornada que se celebrará (D.m.) en el Ilustre Colegio Provincial de Veterinarios de HUELVA el próximo 31.01.2019 contará con las conferencias: \n\n«Altas presiones hidrostáticas: aplicaciones para la conservación y transformación de alimentos»\, por el Prof. Dr. Rafael Gómez Díaz. Facultad de Veterinaria de la Universidad de Córdoba.\n«Irradiación de Alimentos y seguridad alimentaria»\, por el Prof. Dr. Manuel Ángel Amaro López. Facultad de Veterinaria de la Universidad de Córdoba.\n\nEsta Corporación se sentiría muy honrada con su presencia.
URL:https://www.rascvet.es/evento/conferencias-de-la-rascvet-en-huelva/
LOCATION:Ilustre Colegio Provincial de Veterinarios de Huelva\, Calle ArciprestManuel González García\, 11\, Huelva\, Sevilla\, 21003\, España
ATTACH;FMTTYPE=image/jpeg:https://www.rascvet.es/wp-content/uploads/2014/01/img-banner-academia-cordoba.jpg
ORGANIZER;CN="Real Academia Sevilla de Ciencias Veterinarias":MAILTO:academia@rascvet.es
END:VEVENT
BEGIN:VEVENT
DTSTART;TZID=UTC:20190214T200000
DTEND;TZID=UTC:20190214T220000
DTSTAMP:20260423T213751
CREATED:20190206T082733Z
LAST-MODIFIED:20190206T082733Z
UID:7931-1550174400-1550181600@www.rascvet.es
SUMMARY:Jornada Formativa sobre Medicina Regenerativa y Terapia Celular
DESCRIPTION:La Real Academia Sevillana de Ciencias Veterinarias\, tiene el honor de invitarle a la Jornada Formativa sobre «MEDICINA REGENERATIVA Y TERAPIA CELULAR EN VETERINARIA: CONCEPTOS BÁSICOS\, INDICACIONES Y CASOS CLÍNICOS»\, que será imporatida por el Ilmo. Sr. Dr. D. ANTONIO J. VILLATORO JIMÉNEZ\, Académico Numerario de la Real Academia de Ciencias Veterinarias de Andalucía Oriental.
URL:https://www.rascvet.es/evento/joranda-formativa-sobre-medicina-regenerativa-y-terapia-celular/
LOCATION:Ilustre Colegio Oficial de Veterinarios de Sevilla\, Calle Tajo\, 1\, Sevilla\, Sevilla\, 41001\, España
ATTACH;FMTTYPE=image/jpeg:https://www.rascvet.es/wp-content/uploads/2014/01/img-banner-academia-cordoba.jpg
ORGANIZER;CN="Real Academia Sevilla de Ciencias Veterinarias":MAILTO:academia@rascvet.es
END:VEVENT
BEGIN:VEVENT
DTSTART;VALUE=DATE:20210413
DTEND;VALUE=DATE:20210423
DTSTAMP:20260423T213751
CREATED:20220215T103350Z
LAST-MODIFIED:20220217T111924Z
UID:7976-1618272000-1619135999@www.rascvet.es
SUMMARY:IX Ciclo de Conferencias de la RASCVET en Córdoba
DESCRIPTION:REAL ACADEMIA SEVILLANA DE CIENCIAS VETERINARIAS\nVIII CICLO DE CONFERENCIAS\nCórdoba\, 15\, 17\, 22 y 24  de febrero de 2022 \nMartes 15/02/2022 \n\n16:00 h. BIENVENIDA E INAUGURACIÓN\nSr. D. Antonio A. Oropesa de Cáceres. Presidente de la Real Academia Sevillana de Ciencias Veterinarias\nRepresentante de la Universidad de Córdoba\nRepresentante de la Facultad de Veterinaria de la Universidad de Córdoba\n16.15 h. REPRODUCCIÓN DE BOVINOS DE APTITUD LÁCTEA: FISIOLOGÍA CLÍNICA\nProfesora. Dra. Estrella Agueda Buendía. Profesora de la facultad de veterinaria de la Universidad de Córdoba.\n17.15 h. LA IMPLANTACIÓN DE LA RECETA VETERINARIA – RECEVET – EN ANDALUCÍA\nProfesora. Dra. Carmen Borge Rodríguez. Profesora de la facultad de veterinaria de la Universidad de Córdoba.\n18.15 h. REPERCUSIÓN ZOOTÉCNICA DE LA ADMINISTRACIÓN DE HIERRO ORAL EN LECHONES LACTANTES. D. Juan Luis Criado Rodríguez\, veterinario experto en porcino.\n\nJueves 17/02/2022 \n\n16.00 h. DOMINANTES PATOLÓGICOS EN LOS PEQUEÑOS RUMIANTES.\nProf. Dr. Aniceto Méndez Sánchez.  Profesor de la Facultad de Veterinaria de la Universidad de Córdoba.\n17.00 h. LA ECOGRAFÍA COMO TÉCNICA DIAGNOSTICA EN MEDICINA INTERNA EQUINA.\nProf. Dr. José Carlos Estepa Nieto. Profesor de la Facultad de Veterinaria de la Universidad de Córdoba.\n\nMartes 22/02/20122 \n\n16.00 h. EL PARADIGMA DE LA INVESTIGACIÓN EPIDEMIOLÓGICA DE BROTES COMO PUENTE A LA ESTRATEGIA ONE HEALTH.\nProf. Dr. Jaime Ángel Gata Diaz. Profesor de la Facultad de Veterinaria de la Universidad de Córdoba.\n17.00 h. ACTUALIZACIÓN EN TÉCNICAS ANESTÉSICAS Y ANLAGÉSICAS\nProfa. Dra. Mª del Mar Granados Machuca. Profesora de la facultad de veterinaria de la Universidad de Córdoba.\n\nJueves 22/04/2021 \n\n16.00 h. LISTERIOSIS: OPORTUNIDADES DE MEJORA TRAS REFLEXIONAR SOBRE LAS DEBILIDADES DEL CONTROL OFICIAL Y LA «IMPLANTACIÓN» DE LAS HERRAMIENTAS DE GESTIÓN DE LA SEGURIDAD ALIMENTARIA.\nProf. Dr. Mario César Acosta Rodríguez. Profesor de la Facultad de Veterinaria de la Universidad de Córdoba.\n17.00 h. FIEBRE DEL NILO OCCIDENTAL: EVIDENCIA DE LA NECESIDAD DE IMPLANTAR ONEHEALTH\nVicepresidente de la Real Academia Sevillana de Ciencias Veterinarias. Jefe del Servicio de Saludo de la Delegación Territorial de Sevilla de la Consejería de Salud y Familias. Junta de Andalucía.\n\nENLACE PARA LA INSCRIPCIÓN: https://forms.gle/JRiZePeX5gJHKpxh8 \nDescargar Programa
URL:https://www.rascvet.es/evento/ix-ciclo-de-conferencias-de-la-rascvet-en-cordoba/
LOCATION:Videoconferencia\, España
ATTACH;FMTTYPE=image/jpeg:https://www.rascvet.es/wp-content/uploads/2021/04/2021_programa-VIII-Ciclo-Conferencias-RASCVET_portada.jpg
ORGANIZER;CN="Real Academia Sevilla de Ciencias Veterinarias":MAILTO:academia@rascvet.es
END:VEVENT
END:VCALENDAR